BEGIN:VCALENDAR
VERSION:2.0
PRODID:-//Institut franco-tyrolien d&#039;Innsbruck - ECPv6.15.13.1//NONSGML v1.0//EN
CALSCALE:GREGORIAN
METHOD:PUBLISH
X-ORIGINAL-URL:http://franco-tyrolien.at/wordpress
X-WR-CALDESC:Veranstaltungen für Institut franco-tyrolien d&#039;Innsbruck
REFRESH-INTERVAL;VALUE=DURATION:PT1H
X-Robots-Tag:noindex
X-PUBLISHED-TTL:PT1H
BEGIN:VTIMEZONE
TZID:Europe/Berlin
BEGIN:DAYLIGHT
TZOFFSETFROM:+0100
TZOFFSETTO:+0200
TZNAME:CEST
DTSTART:20250330T010000
END:DAYLIGHT
BEGIN:STANDARD
TZOFFSETFROM:+0200
TZOFFSETTO:+0100
TZNAME:CET
DTSTART:20251026T010000
END:STANDARD
BEGIN:DAYLIGHT
TZOFFSETFROM:+0100
TZOFFSETTO:+0200
TZNAME:CEST
DTSTART:20260329T010000
END:DAYLIGHT
BEGIN:STANDARD
TZOFFSETFROM:+0200
TZOFFSETTO:+0100
TZNAME:CET
DTSTART:20261025T010000
END:STANDARD
BEGIN:DAYLIGHT
TZOFFSETFROM:+0100
TZOFFSETTO:+0200
TZNAME:CEST
DTSTART:20270328T010000
END:DAYLIGHT
BEGIN:STANDARD
TZOFFSETFROM:+0200
TZOFFSETTO:+0100
TZNAME:CET
DTSTART:20271031T010000
END:STANDARD
END:VTIMEZONE
BEGIN:VEVENT
DTSTART;TZID=Europe/Berlin:20260117T120000
DTEND;TZID=Europe/Berlin:20260117T170000
DTSTAMP:20260421T154905
CREATED:20260131T094200Z
LAST-MODIFIED:20260222T133751Z
UID:4414-1768651200-1768669200@franco-tyrolien.at
SUMMARY:"Krippele schauen " in Thaur am 17. Jänner für Mitglieder
DESCRIPTION:Liebe Mitglieder\, \nWir bekommen die Gelegenheit mehrere Krippen in Thaur zu besichtigen. \nTermin : Samstag  17. Jänner 2026 \nVariante 1 : Romedikirchl \nDie Krippe im Romedikirschl wird nur alle 2 Jahre aufgestellt. \n12h16 : Bahnhof Rum \nDorfbus Thaur 508 bis Haltestelle Stollenstrasse oder Parkplatz Stollenstrasse 34 \nWanderung zum Romedikirchl \nVariante 2 : Krippen im Dorf \n14h30 : Treffpunkt Pfarrkirche Thaur \nDorfrunde mit Krippenbesichtigungen in der Pfarrkirche und in Privathäusern. \nca. 16h00 Einkehr im Gasthof Purner. \nUm eine gute Organisation zu gewährleisten\, bitten wir euch\, euch für eine oder  beide Varianten anzumelden.\nWir müssen die Privatpersonen über unsere Ankunft und die Anzahl der Personen informieren und den Gasthof reservieren. \nWenn ihr mit dem Auto anreisen  und Mitfahrer mitnehmen möchtet\, teilt uns dies bitte mit. Wir leiten die Informationen weiter.\nVielen Dank\, \nBarbara Steiner und Béatrice \n 
URL:http://franco-tyrolien.at/wordpress/event/krippele-schauen-in-thaur-am-17-jaenner/
END:VEVENT
BEGIN:VEVENT
DTSTART;TZID=Europe/Berlin:20260131T160000
DTEND;TZID=Europe/Berlin:20260131T190000
DTSTAMP:20260421T154905
CREATED:20260131T093523Z
LAST-MODIFIED:20260222T133730Z
UID:4409-1769875200-1769886000@franco-tyrolien.at
SUMMARY:Galette des Rois für Mitglieder
DESCRIPTION:Liebe Mitglieder\, \nWir freuen uns\, Euch zur Galette des Rois einzuladen 🙂 
URL:http://franco-tyrolien.at/wordpress/event/galette-des-rois-3/
LOCATION:Institut franco-tyrolien d’Innsbruck\, Herzog-Friedrich-Strasse 15\, Innsbruck\, Tirol\, 6020\, Österreich
END:VEVENT
END:VCALENDAR