BEGIN:VCALENDAR
VERSION:2.0
PRODID:-//Institut franco-tyrolien d&#039;Innsbruck - ECPv6.15.13.1//NONSGML v1.0//EN
CALSCALE:GREGORIAN
METHOD:PUBLISH
X-WR-CALNAME:Institut franco-tyrolien d&#039;Innsbruck
X-ORIGINAL-URL:http://franco-tyrolien.at/wordpress
X-WR-CALDESC:Veranstaltungen für Institut franco-tyrolien d&#039;Innsbruck
REFRESH-INTERVAL;VALUE=DURATION:PT1H
X-Robots-Tag:noindex
X-PUBLISHED-TTL:PT1H
BEGIN:VTIMEZONE
TZID:Europe/Berlin
BEGIN:DAYLIGHT
TZOFFSETFROM:+0100
TZOFFSETTO:+0200
TZNAME:CEST
DTSTART:20250330T010000
END:DAYLIGHT
BEGIN:STANDARD
TZOFFSETFROM:+0200
TZOFFSETTO:+0100
TZNAME:CET
DTSTART:20251026T010000
END:STANDARD
BEGIN:DAYLIGHT
TZOFFSETFROM:+0100
TZOFFSETTO:+0200
TZNAME:CEST
DTSTART:20260329T010000
END:DAYLIGHT
BEGIN:STANDARD
TZOFFSETFROM:+0200
TZOFFSETTO:+0100
TZNAME:CET
DTSTART:20261025T010000
END:STANDARD
BEGIN:DAYLIGHT
TZOFFSETFROM:+0100
TZOFFSETTO:+0200
TZNAME:CEST
DTSTART:20270328T010000
END:DAYLIGHT
BEGIN:STANDARD
TZOFFSETFROM:+0200
TZOFFSETTO:+0100
TZNAME:CET
DTSTART:20271031T010000
END:STANDARD
END:VTIMEZONE
BEGIN:VEVENT
DTSTART;TZID=Europe/Berlin:20260206T180000
DTEND;TZID=Europe/Berlin:20260206T200000
DTSTAMP:20260421T141626
CREATED:20260131T094516Z
LAST-MODIFIED:20260222T133707Z
UID:4416-1770400800-1770408000@franco-tyrolien.at
SUMMARY:FR. 6. Februar : Stammtisch 18h00 für Mitglieder
DESCRIPTION:
URL:http://franco-tyrolien.at/wordpress/event/fr-6-februar-stammtisch-18h00/
END:VEVENT
BEGIN:VEVENT
DTSTART;TZID=Europe/Berlin:20260212T110000
DTEND;TZID=Europe/Berlin:20260212T170000
DTSTAMP:20260421T141626
CREATED:20260131T094645Z
LAST-MODIFIED:20260222T133642Z
UID:4419-1770894000-1770915600@franco-tyrolien.at
SUMMARY:DO 12. Februar : Rodeln je nach Schneelage sellrain ab 11h00 für Mitglieder
DESCRIPTION: https://www.tirol.at/aktivitaeten/sport/rodeln/rodelbahnen/rodelbahn-gleirsch-sellraintal ; \n                             https://www.rodelwelten.com/rodelbahnen/detail/gleirschalm
URL:http://franco-tyrolien.at/wordpress/event/do-12-februar-rodeln-je-nach-schneelage-sellrain-ab-11h00/
END:VEVENT
BEGIN:VEVENT
DTSTART;TZID=Europe/Berlin:20260223T063000
DTEND;TZID=Europe/Berlin:20260228T210000
DTSTAMP:20260421T141626
CREATED:20250323T105045Z
LAST-MODIFIED:20260301T105533Z
UID:4138-1771828200-1772312400@franco-tyrolien.at
SUMMARY:Reise nach Menton  23-28 Februar 2026 für Mitglieder
DESCRIPTION:Die erste Reise 2026 findet von 23 bis 28 Februar für das Zitronenfest in Menton statt 🙂 
URL:http://franco-tyrolien.at/wordpress/event/reise-nach-menton-ende-februar-anfang-maerz-2026/
LOCATION:Institut franco-tyrolien d’Innsbruck\, Herzog-Friedrich-Strasse 15\, Innsbruck\, Tirol\, 6020\, Österreich
END:VEVENT
END:VCALENDAR