BEGIN:VCALENDAR
VERSION:2.0
PRODID:-//Institut franco-tyrolien d&#039;Innsbruck - ECPv6.15.13.1//NONSGML v1.0//EN
CALSCALE:GREGORIAN
METHOD:PUBLISH
X-WR-CALNAME:Institut franco-tyrolien d&#039;Innsbruck
X-ORIGINAL-URL:http://franco-tyrolien.at/wordpress
X-WR-CALDESC:Veranstaltungen für Institut franco-tyrolien d&#039;Innsbruck
REFRESH-INTERVAL;VALUE=DURATION:PT1H
X-Robots-Tag:noindex
X-PUBLISHED-TTL:PT1H
BEGIN:VTIMEZONE
TZID:Europe/Berlin
BEGIN:DAYLIGHT
TZOFFSETFROM:+0100
TZOFFSETTO:+0200
TZNAME:CEST
DTSTART:20250330T010000
END:DAYLIGHT
BEGIN:STANDARD
TZOFFSETFROM:+0200
TZOFFSETTO:+0100
TZNAME:CET
DTSTART:20251026T010000
END:STANDARD
BEGIN:DAYLIGHT
TZOFFSETFROM:+0100
TZOFFSETTO:+0200
TZNAME:CEST
DTSTART:20260329T010000
END:DAYLIGHT
BEGIN:STANDARD
TZOFFSETFROM:+0200
TZOFFSETTO:+0100
TZNAME:CET
DTSTART:20261025T010000
END:STANDARD
BEGIN:DAYLIGHT
TZOFFSETFROM:+0100
TZOFFSETTO:+0200
TZNAME:CEST
DTSTART:20270328T010000
END:DAYLIGHT
BEGIN:STANDARD
TZOFFSETFROM:+0200
TZOFFSETTO:+0100
TZNAME:CET
DTSTART:20271031T010000
END:STANDARD
END:VTIMEZONE
BEGIN:VEVENT
DTSTART;TZID=Europe/Berlin:20260306T180000
DTEND;TZID=Europe/Berlin:20260306T200000
DTSTAMP:20260421T125822
CREATED:20260131T095049Z
LAST-MODIFIED:20260222T133552Z
UID:4423-1772820000-1772827200@franco-tyrolien.at
SUMMARY:FR 06. März : Stammtisch 18h00 für Mitglieder
DESCRIPTION:
URL:http://franco-tyrolien.at/wordpress/event/fr-06-maerz-stammtisch-18h00/
END:VEVENT
BEGIN:VEVENT
DTSTART;TZID=Europe/Berlin:20260311T130000
DTEND;TZID=Europe/Berlin:20260311T180000
DTSTAMP:20260421T125822
CREATED:20260131T094920Z
LAST-MODIFIED:20260222T133527Z
UID:4421-1773234000-1773252000@franco-tyrolien.at
SUMMARY:MI 11. März : Fahrt mit der Zillertalbahn+ stille Nacht Museum ca ab 13h00 für Mitglieder
DESCRIPTION:https://www.tirol.tl/de/highlights/museen-ausstellungen/museum-in-der-widumspfiste-in-fuegen/
URL:http://franco-tyrolien.at/wordpress/event/mi-11-maerz-fahrt-mit-der-zillertalbahn-stille-nacht-museum-ca-ab-13h00/
END:VEVENT
END:VCALENDAR