BEGIN:VCALENDAR
VERSION:2.0
PRODID:-//Institut franco-tyrolien d&#039;Innsbruck - ECPv6.15.13.1//NONSGML v1.0//EN
CALSCALE:GREGORIAN
METHOD:PUBLISH
X-ORIGINAL-URL:http://franco-tyrolien.at/wordpress
X-WR-CALDESC:Veranstaltungen für Institut franco-tyrolien d&#039;Innsbruck
REFRESH-INTERVAL;VALUE=DURATION:PT1H
X-Robots-Tag:noindex
X-PUBLISHED-TTL:PT1H
BEGIN:VTIMEZONE
TZID:Europe/Berlin
BEGIN:DAYLIGHT
TZOFFSETFROM:+0100
TZOFFSETTO:+0200
TZNAME:CEST
DTSTART:20250330T010000
END:DAYLIGHT
BEGIN:STANDARD
TZOFFSETFROM:+0200
TZOFFSETTO:+0100
TZNAME:CET
DTSTART:20251026T010000
END:STANDARD
BEGIN:DAYLIGHT
TZOFFSETFROM:+0100
TZOFFSETTO:+0200
TZNAME:CEST
DTSTART:20260329T010000
END:DAYLIGHT
BEGIN:STANDARD
TZOFFSETFROM:+0200
TZOFFSETTO:+0100
TZNAME:CET
DTSTART:20261025T010000
END:STANDARD
BEGIN:DAYLIGHT
TZOFFSETFROM:+0100
TZOFFSETTO:+0200
TZNAME:CEST
DTSTART:20270328T010000
END:DAYLIGHT
BEGIN:STANDARD
TZOFFSETFROM:+0200
TZOFFSETTO:+0100
TZNAME:CET
DTSTART:20271031T010000
END:STANDARD
END:VTIMEZONE
BEGIN:VEVENT
DTSTART;TZID=Europe/Berlin:20260508T180000
DTEND;TZID=Europe/Berlin:20260508T200000
DTSTAMP:20260421T125323
CREATED:20260131T095646Z
LAST-MODIFIED:20260222T133344Z
UID:4431-1778263200-1778270400@franco-tyrolien.at
SUMMARY:FR 08. Mai : Stammtisch 18h00 für Mitglieder
DESCRIPTION:
URL:http://franco-tyrolien.at/wordpress/event/fr-08-mai-stammtisch-18h00/
END:VEVENT
BEGIN:VEVENT
DTSTART;TZID=Europe/Berlin:20260530T130000
DTEND;TZID=Europe/Berlin:20260530T180000
DTSTAMP:20260421T125323
CREATED:20260131T095803Z
LAST-MODIFIED:20260222T133254Z
UID:4433-1780146000-1780164000@franco-tyrolien.at
SUMMARY:SA 30. Mai : Mariastein ca ab 13h00 für Mitglieder
DESCRIPTION:
URL:http://franco-tyrolien.at/wordpress/event/sa-30-mai-mariastein-ca-ab-13h00/
END:VEVENT
END:VCALENDAR