BEGIN:VCALENDAR
VERSION:2.0
PRODID:-//Institut franco-tyrolien d&#039;Innsbruck - ECPv6.15.13.1//NONSGML v1.0//EN
CALSCALE:GREGORIAN
METHOD:PUBLISH
X-ORIGINAL-URL:http://franco-tyrolien.at/wordpress
X-WR-CALDESC:Veranstaltungen für Institut franco-tyrolien d&#039;Innsbruck
REFRESH-INTERVAL;VALUE=DURATION:PT1H
X-Robots-Tag:noindex
X-PUBLISHED-TTL:PT1H
BEGIN:VTIMEZONE
TZID:Europe/Berlin
BEGIN:DAYLIGHT
TZOFFSETFROM:+0100
TZOFFSETTO:+0200
TZNAME:CEST
DTSTART:20250330T010000
END:DAYLIGHT
BEGIN:STANDARD
TZOFFSETFROM:+0200
TZOFFSETTO:+0100
TZNAME:CET
DTSTART:20251026T010000
END:STANDARD
BEGIN:DAYLIGHT
TZOFFSETFROM:+0100
TZOFFSETTO:+0200
TZNAME:CEST
DTSTART:20260329T010000
END:DAYLIGHT
BEGIN:STANDARD
TZOFFSETFROM:+0200
TZOFFSETTO:+0100
TZNAME:CET
DTSTART:20261025T010000
END:STANDARD
BEGIN:DAYLIGHT
TZOFFSETFROM:+0100
TZOFFSETTO:+0200
TZNAME:CEST
DTSTART:20270328T010000
END:DAYLIGHT
BEGIN:STANDARD
TZOFFSETFROM:+0200
TZOFFSETTO:+0100
TZNAME:CET
DTSTART:20271031T010000
END:STANDARD
END:VTIMEZONE
BEGIN:VEVENT
DTSTART;TZID=Europe/Berlin:20261128T160000
DTEND;TZID=Europe/Berlin:20261128T200000
DTSTAMP:20260421T201738
CREATED:20260131T100256Z
LAST-MODIFIED:20260222T133314Z
UID:4441-1795881600-1795896000@franco-tyrolien.at
SUMMARY:SA 28. November : Weihnachtsfeier um 16 Uhr für Mitglieder
DESCRIPTION:
URL:http://franco-tyrolien.at/wordpress/event/sa-28-november-weihnachtsfeier-um-16-uhr/
LOCATION:Institut franco-tyrolien d’Innsbruck\, Herzog-Friedrich-Strasse 15\, Innsbruck\, Tirol\, 6020\, Österreich
END:VEVENT
END:VCALENDAR